BEGIN:VCALENDAR
VERSION:2.0
PRODID:-//Tukios.com/
BEGIN:VEVENT
UID:403fd544-89db-4469-994d-be6e9267f0b6@www.townsendfuneralhomeinc.com
DTSTAMP:20260423T011432Z
DTSTART:20260424T190000Z
DTEND:20260424T200000Z
SUMMARY:Funeral Service
DESCRIPTION:
URL:https://www.townsendfuneralhomeinc.com/obituaries/donna-jackson
LOCATION:Townsend Funeral Home 140 US-41 Alternate South  Dixon KY 42409
GEO:37.5162132;-87.6922022
END:VEVENT
END:VCALENDAR