BEGIN:VCALENDAR
VERSION:2.0
PRODID:-//Tukios.com/
BEGIN:VEVENT
UID:34325bb7-2ef2-4abe-8364-7764dc105303@www.townsendfuneralhomeinc.com
DTSTAMP:20260423T011053Z
DTSTART:20260424T150000Z
DTEND:20260424T190000Z
SUMMARY:Visitation
DESCRIPTION:
URL:https://www.townsendfuneralhomeinc.com/obituaries/donna-jackson
LOCATION:Townsend Funeral Home 140 US-41 Alternate South  Dixon KY 42409
GEO:37.5162132;-87.6922022
END:VEVENT
END:VCALENDAR